BEGIN:VCALENDAR
VERSION:2.0
PRODID:-//Plavita Sadhana - ECPv4.7.2//NONSGML v1.0//EN
CALSCALE:GREGORIAN
METHOD:PUBLISH
X-WR-CALNAME:Plavita Sadhana
X-ORIGINAL-URL:https://plavita-sadhana.com
X-WR-CALDESC:Events for Plavita Sadhana
BEGIN:VEVENT
DTSTART;VALUE=DATE:20180409
DTEND;VALUE=DATE:20181230
DTSTAMP:20260422T165600
CREATED:20180409T141007Z
LAST-MODIFIED:20181129T182120Z
UID:4170-1523232000-1546127999@plavita-sadhana.com
SUMMARY:Персональный тренинг по методике Total Immersion Swimming в Киеве.
DESCRIPTION:Самая эффективная тренировка — это персональная тренировка. \nМы не будем останавливаться на тех аспектах практики\, которые вам уже известны и хорошо получаются\, а сразу приступим к тем моментам\, которые требуют корректировки и улучшения.\nДля нас важно\, чтобы вы полностью понимали весь процесс и могли в дальнейшем самостоятельно применять и контролировать полученные практические навыки.\nТолько самые эффективные для вас упражнения. Ничего лишнего. \nПодробнее о методике Total Immersion Swimming вы можете узнать на сайте  \nhttp://ti-ukraine.com \nВопросы и запись у организатора\, TI Coach  Алла Носенко (Alla Nosenko)\, по телефону +380664003946 или на сайте в разделе контакты. \n
URL:https://plavita-sadhana.com/event/personalnyj-trening-po-metodike-total-immersion-swimming-v-kieve/
CATEGORIES:Интенсив
ATTACH;FMTTYPE=image/jpeg:https://plavita-sadhana.com/wp-content/uploads/2018/02/27972782_1812672485432486_1606861668834079139_n.jpg
ORGANIZER;CN="%D0%9D%D0%BE%D1%81%D0%B5%D0%BD%D0%BA%D0%BE%20%D0%90%D0%BB%D0%BB%D0%B0":MAILTO:alla.nosenko@gmail.com
END:VEVENT
END:VCALENDAR